BEGIN:VCALENDAR
VERSION:2.0
PRODID:-//ChamberMaster//Event Calendar 2.0//EN
METHOD:PUBLISH
X-PUBLISHED-TTL:P3D
REFRESH-INTERVAL:P3D
CALSCALE:GREGORIAN
BEGIN:VEVENT
DTSTART:20191205T220000Z
DTEND:20191206T020000Z
X-MICROSOFT-CDO-ALLDAYEVENT:FALSE
SUMMARY:Christmas Walk on the Bricks
DESCRIPTION:Experience Downtown Kearney's annual old fashioned Christmas Walk with a live stable and reindeer\, horse drawn hayrack rides\, Santa\, his elves and Mrs. Claus\, holiday performances\, caroling\, unique shopping\, refreshments and more.
X-ALT-DESC;FMTTYPE=text/html:Experience Downtown Kearney&#39\;s annual old fashioned Christmas Walk with a live stable and reindeer\, horse drawn hayrack rides\, Santa\, his elves and Mrs. Claus\, holiday performances\, caroling\, unique shopping\, refreshments and more.
LOCATION:Downtown Kearney
UID:e.1404.18152
SEQUENCE:3
DTSTAMP:20260425T132120Z
URL:https://members.kearneycoc.org/events/details/christmas-walk-on-the-bricks-18152
END:VEVENT

END:VCALENDAR
