BEGIN:VCALENDAR
VERSION:2.0
PRODID:-//ChamberMaster//Event Calendar 2.0//EN
METHOD:PUBLISH
X-PUBLISHED-TTL:P3D
REFRESH-INTERVAL:P3D
CALSCALE:GREGORIAN
BEGIN:VEVENT
DTSTART:20190322T000000Z
DTEND:20190322T020000Z
X-MICROSOFT-CDO-ALLDAYEVENT:FALSE
SUMMARY:Church Basement Ladies
DESCRIPTION:A brand new musical comedy featuring the men of the church & your favorite church basement ladies who serve them! As these hard working farmers discuss their scrap lumber piles & benefits of weld vs solder they unintentionally disrupt the order of the kitchen. But thats what happens when you let the rooster in the hen house.
X-ALT-DESC;FMTTYPE=text/html:A brand new musical comedy featuring the men of the church &amp\; your favorite church basement ladies who serve them! As these hard working farmers discuss their scrap lumber piles &amp\; benefits of weld vs solder they unintentionally disrupt the order of the kitchen. But thats what happens when you let the rooster in the hen house.
LOCATION:Merryman Performing Arts Center 225 W 22nd St Kearney\, NE
UID:e.1404.14374
SEQUENCE:3
DTSTAMP:20260426T033339Z
URL:https://members.kearneycoc.org/events/details/church-basement-ladies-03-21-2019-14374
END:VEVENT

END:VCALENDAR
