BEGIN:VCALENDAR
VERSION:2.0
PRODID:-//ChamberMaster//Event Calendar 2.0//EN
METHOD:PUBLISH
X-PUBLISHED-TTL:P3D
REFRESH-INTERVAL:P3D
CALSCALE:GREGORIAN
BEGIN:VEVENT
DTSTART:20220415T000000Z
DTEND:20220415T023000Z
X-MICROSOFT-CDO-ALLDAYEVENT:FALSE
SUMMARY:Church Basement Ladies 20th Anniversary Tour
DESCRIPTION:The smash-hit musical comedy that started it all\, the "Church Basement Ladies" will be returning to the Merryman for their 20th anniversary tour! This tour will be presenting the original show\, a production that broke box office records and inspired a whole series of musicals starring these loveable and hilarious gals. There will be a 2 PM matinee and a 7 PM evening performance. Tickets are available online at pickmytickets.com or by calling the box office at (308) 698-8297.
X-ALT-DESC;FMTTYPE=text/html:The smash-hit musical comedy that started it all\, the &ldquo\;Church Basement Ladies&rdquo\; will be returning to the Merryman for their 20th anniversary tour! This tour will be presenting the original show\, a production that broke box office records and inspired a whole series of musicals starring these loveable and hilarious gals. There will be a 2 PM matinee and a 7 PM evening performance. Tickets are available online at pickmytickets.com or by calling the box office at (308) 698-8297.
LOCATION:Merryman Performing Arts Center 225 W 22nd Street Kearney\, NE
UID:e.1404.19476
SEQUENCE:3
DTSTAMP:20260423T150000Z
URL:https://members.kearneycoc.org/events/details/church-basement-ladies-20th-anniversary-tour-19476
END:VEVENT

END:VCALENDAR
