BEGIN:VCALENDAR
VERSION:2.0
PRODID:-//ChamberMaster//Event Calendar 2.0//EN
METHOD:PUBLISH
X-PUBLISHED-TTL:P3D
REFRESH-INTERVAL:P3D
CALSCALE:GREGORIAN
BEGIN:VEVENT
DTSTART:20260505T230000Z
DTEND:20260506T020000Z
X-MICROSOFT-CDO-ALLDAYEVENT:FALSE
SUMMARY:Cinco de Mayo at Pinon Market
DESCRIPTION:Visit Pinon Market on May 5th and celebrate Cinco de Mayo right with Margaritas\, salsa bar\, and chips!
X-ALT-DESC;FMTTYPE=text/html:Visit Pinon Market on May 5th and celebrate Cinco de Mayo right with Margaritas\, salsa bar\, and chips!
LOCATION:527 E 25th St Kearney NE
UID:e.1404.26276
SEQUENCE:3
DTSTAMP:20260422T090625Z
URL:https://members.kearneycoc.org/events/details/cinco-de-mayo-at-pinon-market-26276
END:VEVENT

END:VCALENDAR
