BEGIN:VCALENDAR
VERSION:2.0
PRODID:-//ChamberMaster//Event Calendar 2.0//EN
METHOD:PUBLISH
X-PUBLISHED-TTL:P3D
REFRESH-INTERVAL:P3D
CALSCALE:GREGORIAN
BEGIN:VEVENT
DTSTART:20150811T223000Z
DTEND:20150812T003000Z
X-MICROSOFT-CDO-ALLDAYEVENT:FALSE
SUMMARY:City Council Meeting
DESCRIPTION:City Council Chambers\n\nCity Hall\, 2nd Floor\n\n18 East 22nd St at 5:30PM
X-ALT-DESC;FMTTYPE=text/html:City Council Chambers<br />\nCity Hall\, 2nd Floor<br />\n18 East 22nd St at 5:30PM
LOCATION:
UID:e.1404.6454
SEQUENCE:3
DTSTAMP:20260422T114828Z
URL:https://members.kearneycoc.org/events/details/city-council-meeting-08-11-2015-6454
END:VEVENT

END:VCALENDAR
