BEGIN:VCALENDAR
VERSION:2.0
PRODID:-//ChamberMaster//Event Calendar 2.0//EN
METHOD:PUBLISH
X-PUBLISHED-TTL:P3D
REFRESH-INTERVAL:P3D
CALSCALE:GREGORIAN
BEGIN:VEVENT
DTSTART:20150908T223000Z
DTEND:20150909T000000Z
X-MICROSOFT-CDO-ALLDAYEVENT:FALSE
SUMMARY:City Council Meeting
DESCRIPTION:
X-ALT-DESC;FMTTYPE=text/html:
LOCATION:City Council Chambers City Hall\, 2nd Floor 18 East 22nd St at 5:30 PM
UID:e.1404.6668
SEQUENCE:3
DTSTAMP:20260422T114908Z
URL:https://members.kearneycoc.org/events/details/city-council-meeting-09-08-2015-6668
END:VEVENT

END:VCALENDAR
