BEGIN:VCALENDAR
VERSION:2.0
PRODID:-//ChamberMaster//Event Calendar 2.0//EN
METHOD:PUBLISH
X-PUBLISHED-TTL:P3D
REFRESH-INTERVAL:P3D
CALSCALE:GREGORIAN
BEGIN:VEVENT
DTSTART:20150922T223000Z
DTEND:20150923T003000Z
X-MICROSOFT-CDO-ALLDAYEVENT:FALSE
SUMMARY:City Council Meeting
DESCRIPTION:City Council Chambers\n\nCity Hall\, 2nd Floor\n\n18 East 22nd St at 5:30PM
X-ALT-DESC;FMTTYPE=text/html:<span style="line-height: 20.7999992370605px\;">City Council Chambers</span><br style="line-height: 20.7999992370605px\;" />\n<span style="line-height: 20.7999992370605px\;">City Hall\, 2nd Floor</span><br style="line-height: 20.7999992370605px\;" />\n<span style="line-height: 20.7999992370605px\;">18 East&nbsp\;</span>22nd<span style="line-height: 20.7999992370605px\;">&nbsp\;St at 5:</span><span style="line-height: 20.7999992370605px\;">30PM</span>
LOCATION:
UID:e.1404.6675
SEQUENCE:3
DTSTAMP:20260422T114907Z
URL:https://members.kearneycoc.org/events/details/city-council-meeting-09-22-2015-6675
END:VEVENT

END:VCALENDAR
