BEGIN:VCALENDAR
VERSION:2.0
PRODID:-//ChamberMaster//Event Calendar 2.0//EN
METHOD:PUBLISH
X-PUBLISHED-TTL:P3D
REFRESH-INTERVAL:P3D
CALSCALE:GREGORIAN
BEGIN:VEVENT
DTSTART;VALUE=DATE:20150709
DTEND;VALUE=DATE:20150713
TRANSP:TRANSPARENT
X-MICROSOFT-CDO-ALLDAYEVENT:TRUE
SUMMARY:City Sidewalk Sales
DESCRIPTION:Turn up the discounts & save up to 70% shopping local! Save the date to shop retailers at the Kearney Hilltop Mall & businesses Downtown Kearney on the Bricks. Big summer savings!
X-ALT-DESC;FMTTYPE=text/html:Turn up the discounts &amp\; save up to 70% shopping local! Save the date to shop retailers at the Kearney Hilltop Mall &amp\; businesses Downtown Kearney on the Bricks. Big summer savings!
LOCATION:Hilltop Mall Kearney & Downtown on the Bricks
UID:e.1404.6266
SEQUENCE:3
DTSTAMP:20260422T132930Z
URL:https://members.kearneycoc.org/events/details/city-sidewalk-sales-07-09-2015-6266
END:VEVENT

END:VCALENDAR
