BEGIN:VCALENDAR
VERSION:2.0
PRODID:-//ChamberMaster//Event Calendar 2.0//EN
METHOD:PUBLISH
X-PUBLISHED-TTL:P3D
REFRESH-INTERVAL:P3D
CALSCALE:GREGORIAN
BEGIN:VEVENT
DTSTART;VALUE=DATE:20160721
DTEND;VALUE=DATE:20160725
TRANSP:TRANSPARENT
X-MICROSOFT-CDO-ALLDAYEVENT:TRUE
SUMMARY:City Sidewalk Sales
DESCRIPTION:City Sidewalk sales is the best time of the year to shop! Take advantage of huge clearance sales at your favorite stores in Downtown Kearney and at the Hilltop Mall.
X-ALT-DESC;FMTTYPE=text/html:<span style="font-family:calibri\,sans-serif\;"><span style="font-size:11.0pt\;">City Sidewalk sales is the best time of the year to shop! Take advantage of huge clearance sales at your favorite stores in Downtown Kearney and at the Hilltop Mall.</span></span>
LOCATION:Downtown Kearney & Hilltop Mall
UID:e.1404.8913
SEQUENCE:3
DTSTAMP:20260421T184603Z
URL:https://members.kearneycoc.org/events/details/city-sidewalk-sales-07-21-2016-8913
END:VEVENT

END:VCALENDAR
