BEGIN:VCALENDAR
VERSION:2.0
PRODID:-//ChamberMaster//Event Calendar 2.0//EN
METHOD:PUBLISH
X-PUBLISHED-TTL:P3D
REFRESH-INTERVAL:P3D
CALSCALE:GREGORIAN
BEGIN:VEVENT
DTSTART;VALUE=DATE:20140329
DTEND;VALUE=DATE:20140330
TRANSP:TRANSPARENT
X-MICROSOFT-CDO-ALLDAYEVENT:TRUE
SUMMARY:CLASS Act IX
DESCRIPTION:
X-ALT-DESC;FMTTYPE=text/html:
LOCATION:Younes Conference Center 416 Talmage Rd Kearney\, NE
UID:e.1404.3941
SEQUENCE:3
DTSTAMP:20260423T163320Z
URL:https://members.kearneycoc.org/events/details/class-act-ix-03-29-2014-3941
END:VEVENT

END:VCALENDAR
