BEGIN:VCALENDAR
VERSION:2.0
PRODID:-//ChamberMaster//Event Calendar 2.0//EN
METHOD:PUBLISH
X-PUBLISHED-TTL:P3D
REFRESH-INTERVAL:P3D
CALSCALE:GREGORIAN
BEGIN:VEVENT
DTSTART:20200619T200000Z
DTEND:20200619T210000Z
X-MICROSOFT-CDO-ALLDAYEVENT:FALSE
SUMMARY:Class of 2020 - Senior's Last Drive
DESCRIPTION:Join us as we recognize Kearney High and Kearney Catholic's Seniors with a Senior's Last Drive. We would like to invite family friends and community members to help celebrate our Seniors and to particpate by standing along the Last Drive Route\, but we must remind everyone to practice social distancing and current guidelines about public gatherings.
X-ALT-DESC;FMTTYPE=text/html:Join us as we recognize Kearney High and Kearney Catholic&#39\;s Seniors with a Senior&#39\;s Last Drive. We would like to invite family friends and community members to help celebrate our Seniors and to particpate by standing along the Last Drive Route\, but we must remind everyone to practice social distancing and current guidelines about public gatherings.&nbsp\;
LOCATION:2nd Ave to Hilltop Mall
UID:e.1404.18414
SEQUENCE:3
DTSTAMP:20260425T033730Z
URL:https://members.kearneycoc.org/events/details/class-of-2020-senior-s-last-drive-18414
END:VEVENT

END:VCALENDAR
