BEGIN:VCALENDAR
VERSION:2.0
PRODID:-//ChamberMaster//Event Calendar 2.0//EN
METHOD:PUBLISH
X-PUBLISHED-TTL:P3D
REFRESH-INTERVAL:P3D
CALSCALE:GREGORIAN
BEGIN:VEVENT
DTSTART:20140516T150000Z
DTEND:20140516T153000Z
X-MICROSOFT-CDO-ALLDAYEVENT:FALSE
SUMMARY:Classic Car Collection Press Conference
DESCRIPTION:There will be a formal Press Conference to introduce the new director of the Classic Car Collection\, Greg Overton. A meet and greet will follow the announcement.
X-ALT-DESC;FMTTYPE=text/html:There will be a formal Press Conference to introduce the new director of the Classic Car Collection\, Greg Overton. A meet and greet will follow the announcement.&nbsp\;
LOCATION:Classic Car Collection on East Highway 30
UID:e.1404.4842
SEQUENCE:3
DTSTAMP:20260423T132111Z
URL:https://members.kearneycoc.org/events/details/classic-car-collection-press-conference-05-16-2014-4842
END:VEVENT

END:VCALENDAR
