BEGIN:VCALENDAR
VERSION:2.0
PRODID:-//ChamberMaster//Event Calendar 2.0//EN
METHOD:PUBLISH
X-PUBLISHED-TTL:P3D
REFRESH-INTERVAL:P3D
CALSCALE:GREGORIAN
BEGIN:VEVENT
DTSTART:20160219T160000Z
DTEND:20160221T030000Z
X-MICROSOFT-CDO-ALLDAYEVENT:FALSE
SUMMARY:Clearance Event
DESCRIPTION:Take in the mall wide Clearance Event going February 19th-21st at Hilltop Mall. Many stores are excited to offer the lowest prices of the year! Friday 10am-9pm\, Saturday 10am-9pm\, and Sunday 12pm-6pm\, you don't want to miss this huge savings event!
X-ALT-DESC;FMTTYPE=text/html:Take in the mall wide Clearance Event going February 19th-21st at Hilltop Mall. Many stores are excited to offer the lowest prices of the year! Friday 10am-9pm\, Saturday 10am-9pm\, and Sunday 12pm-6pm\, you don&#39\;t want to miss this huge savings event!
LOCATION:Hilltop Mall 5011 2nd Ave Kearney\, NE 68847
UID:e.1404.7508
SEQUENCE:3
DTSTAMP:20260422T012015Z
URL:https://members.kearneycoc.org/events/details/clearance-event-02-19-2016-7508
END:VEVENT

END:VCALENDAR
