BEGIN:VCALENDAR
VERSION:2.0
PRODID:-//ChamberMaster//Event Calendar 2.0//EN
METHOD:PUBLISH
X-PUBLISHED-TTL:P3D
REFRESH-INTERVAL:P3D
CALSCALE:GREGORIAN
BEGIN:VEVENT
DTSTART:20160221T180000Z
DTEND:20160222T000000Z
X-MICROSOFT-CDO-ALLDAYEVENT:FALSE
SUMMARY:Clearance Event
DESCRIPTION:Take in the mall wide Clearance Event going February 19th-21st at Hilltop Mall. Many stores are excited to offer the lowest prices of the year! Friday 10am-9pm\, Saturday 10am-9pm\, and Sunday 12pm-6pm\, you don't want to miss this huge savings event!
X-ALT-DESC;FMTTYPE=text/html:<span style="line-height: 20.8px\;">Take in the mall wide Clearance Event going February&nbsp\;</span>19th-21st<span style="line-height: 20.8px\;">&nbsp\;at Hilltop Mall. Many stores are excited to offer the lowest prices of the year! Friday&nbsp\;</span>10am-9pm<span style="line-height: 20.8px\;">\, Saturday&nbsp\;</span>10am-9pm<span style="line-height: 20.8px\;">\, and Sunday&nbsp\;</span>12pm-6pm<span style="line-height: 20.8px\;">\, you don&#39\;t want to miss this huge savings event!</span>
LOCATION:Hilltop Mall 5011 2nd Ave Kearney\, NE 68847
UID:e.1404.7509
SEQUENCE:3
DTSTAMP:20260422T011949Z
URL:https://members.kearneycoc.org/events/details/clearance-event-02-21-2016-7509
END:VEVENT

END:VCALENDAR
