BEGIN:VCALENDAR
VERSION:2.0
PRODID:-//ChamberMaster//Event Calendar 2.0//EN
METHOD:PUBLISH
X-PUBLISHED-TTL:P3D
REFRESH-INTERVAL:P3D
CALSCALE:GREGORIAN
BEGIN:VEVENT
DTSTART:20160227T010000Z
DTEND:20160227T023000Z
X-MICROSOFT-CDO-ALLDAYEVENT:FALSE
SUMMARY:Clifford the Big Red Dog
DESCRIPTION:"It only takes a little to BE BIG!" The "big red dog"\, a character beloved for generations\, comes to life on stage in a BIG way in this all new musical! Join Clifford\, Emily Elizabeth and all their friends from Birdwell Island as they embark on fun-filled adventures with singing\, dancing\, and interactive fun. Share in the timeless values of Clifford's BIG ideas- Share\, Play Fair\, Have Respect\, Work Together\, Be Kind\, Believe in Yourself\, Be a Good Friend\, and Help Others- with this musical experience the whole family will love!
X-ALT-DESC;FMTTYPE=text/html:&quot\;It only takes a little to BE BIG!&quot\; The &quot\;big red dog&quot\;\, a character beloved for generations\, comes to life on stage in a BIG way in this all new musical! Join Clifford\, Emily Elizabeth and all their friends from Birdwell Island as they embark on fun-filled adventures with singing\, dancing\, and interactive fun. Share in the timeless values of Clifford&#39\;s BIG ideas- Share\, Play Fair\, Have Respect\, Work Together\, Be Kind\, Believe in Yourself\, Be a Good Friend\, and Help Others- with this musical experience the whole family will love!
LOCATION:Merryman Performing Arts Center
UID:e.1404.7041
SEQUENCE:3
DTSTAMP:20260422T012305Z
URL:https://members.kearneycoc.org/events/details/clifford-the-big-red-dog-02-26-2016-7041
END:VEVENT

END:VCALENDAR
