BEGIN:VCALENDAR
VERSION:2.0
PRODID:-//ChamberMaster//Event Calendar 2.0//EN
METHOD:PUBLISH
X-PUBLISHED-TTL:P3D
REFRESH-INTERVAL:P3D
CALSCALE:GREGORIAN
BEGIN:VEVENT
DTSTART:20260311T170000Z
DTEND:20260311T180000Z
X-MICROSOFT-CDO-ALLDAYEVENT:FALSE
SUMMARY:Cline Williams Academy Webinar - Navigating Guardianships and Conservatorships: Process\, Pitfalls\, and Oversight Challenges
DESCRIPTION:Hospitals and healthcare providers frequently encounter patients in need of a guardianship and conservatorship. Without clear guidance on when court appointments are needed and how they are made\, the process can be daunting. This webinar will explore the guardianship appointment process\, including statutory requirements\, evidentiary considerations regarding capacity\, and the practical challenges encountered when securing appointments in real-world practice\, as well as the potential alternatives to be considered before resorting to the appointment process. This webinar will also address the increased attention to these matters by the courts following a case involving financial exploitation of wards\, as well as recently introduced LB985. Join Jason Yungtum and Cameron Scott for this informative webinar regarding how your organization can prepare to meet these needs for your patients.
X-ALT-DESC;FMTTYPE=text/html:<span style="color:rgba(0\, 0\, 0\, 0.9)\; font-family:-apple-system\,system-ui\,blinkmacsystemfont\,segoe ui\,roboto\,helvetica neue\,fira sans\,ubuntu\,oxygen\,oxygen sans\,cantarell\,droid sans\,apple color emoji\,segoe ui emoji\,segoe ui emoji\,segoe ui symbol\,lucida grande\,helvetica\,arial\,sans-serif\; font-size:14px">Hospitals and healthcare providers frequently encounter patients in need of a guardianship and conservatorship. Without clear guidance on when court appointments are needed and how they are made\, the process can be daunting. This webinar will explore the guardianship appointment process\, including statutory requirements\, evidentiary considerations regarding capacity\, and the practical challenges encountered when securing appointments in real-world practice\, as well as the potential alternatives to be considered before resorting to the appointment process.&nbsp\;This webinar will also address the increased attention to these matters by the courts following a case involving financial exploitation of wards\, as well as recently introduced LB985. Join</span><span style="color:rgba(0\, 0\, 0\, 0.9)\; font-family:-apple-system\,system-ui\,blinkmacsystemfont\,segoe ui\,roboto\,helvetica neue\,fira sans\,ubuntu\,oxygen\,oxygen sans\,cantarell\,droid sans\,apple color emoji\,segoe ui emoji\,segoe ui emoji\,segoe ui symbol\,lucida grande\,helvetica\,arial\,sans-serif\; font-size:14px"> </span><span style="color:rgba(0\, 0\, 0\, 0.9)\; font-family:-apple-system\,system-ui\,blinkmacsystemfont\,segoe ui\,roboto\,helvetica neue\,fira sans\,ubuntu\,oxygen\,oxygen sans\,cantarell\,droid sans\,apple color emoji\,segoe ui emoji\,segoe ui emoji\,segoe ui symbol\,lucida grande\,helvetica\,arial\,sans-serif\; font-size:14px"><a class="ember-view" href="https://www.linkedin.com/in/jasonyungtum/" id="ember309" style="box-sizing: inherit\; margin: 0px\; padding: 0px\; vertical-align: baseline\; background: none 0% 0% / auto repeat scroll padding-box border-box rgba(0\, 0\, 0\, 0)\; text-decoration-line: initial\; text-decoration-color: rgb(10\, 102\, 194)\; font-weight: 600\; border-color: rgb(10\, 102\, 194)\; border-style: none\; border-width: 0px\; border-image: none 100% / 1 / 0 stretch\; color: rgb(10\, 102\, 194)\; touch-action: manipulation\; position: relative\; word-break: normal\; overflow-wrap: normal\; line-height: inherit !important\;" tabindex="0">Jason Yungtum</a></span><span style="color:rgba(0\, 0\, 0\, 0.9)\; font-family:-apple-system\,system-ui\,blinkmacsystemfont\,segoe ui\,roboto\,helvetica neue\,fira sans\,ubuntu\,oxygen\,oxygen sans\,cantarell\,droid sans\,apple color emoji\,segoe ui emoji\,segoe ui emoji\,segoe ui symbol\,lucida grande\,helvetica\,arial\,sans-serif\; font-size:14px"> </span><span style="color:rgba(0\, 0\, 0\, 0.9)\; font-family:-apple-system\,system-ui\,blinkmacsystemfont\,segoe ui\,roboto\,helvetica neue\,fira sans\,ubuntu\,oxygen\,oxygen sans\,cantarell\,droid sans\,apple color emoji\,segoe ui emoji\,segoe ui emoji\,segoe ui symbol\,lucida grande\,helvetica\,arial\,sans-serif\; font-size:14px">and</span><span style="color:rgba(0\, 0\, 0\, 0.9)\; font-family:-apple-system\,system-ui\,blinkmacsystemfont\,segoe ui\,roboto\,helvetica neue\,fira sans\,ubuntu\,oxygen\,oxygen sans\,cantarell\,droid sans\,apple color emoji\,segoe ui emoji\,segoe ui emoji\,segoe ui symbol\,lucida grande\,helvetica\,arial\,sans-serif\; font-size:14px"> </span><span style="font-family:-apple-system\,system-ui\,blinkmacsystemfont\,segoe ui\,roboto\,helvetica neue\,fira sans\,ubuntu\,oxygen\,oxygen sans\,cantarell\,droid sans\,apple color emoji\,segoe ui emoji\,segoe ui emoji\,segoe ui symbol\,lucida grande\,helvetica\,arial\,sans-serif\; font-size:14px"><a class="ember-view" href="https://www.linkedin.com/in/camscott22/" id="ember310" style="box-sizing: inherit\; margin: 0px\; padding: 0px\; vertical-align: baseline\; background: none 0% 0% / auto repeat scroll padding-box border-box rgba(0\, 0\, 0\, 0)\; text-decoration-line: initial\; text-decoration-color: rgb(10\, 102\, 194)\; font-weight: 600\; border-color: rgb(10\, 102\, 194)\; border-style: none\; border-width: 0px\; border-image: none 100% / 1 / 0 stretch\; color: rgb(10\, 102\, 194)\; touch-action: manipulation\; position: relative\; word-break: normal\; overflow-wrap: normal\; line-height: inherit !important\;" tabindex="0">Cameron Scott</a></span><span style="color:rgba(0\, 0\, 0\, 0.9)\; font-family:-apple-system\,system-ui\,blinkmacsystemfont\,segoe ui\,roboto\,helvetica neue\,fira sans\,ubuntu\,oxygen\,oxygen sans\,cantarell\,droid sans\,apple color emoji\,segoe ui emoji\,segoe ui emoji\,segoe ui symbol\,lucida grande\,helvetica\,arial\,sans-serif\; font-size:14px"> </span><span style="color:rgba(0\, 0\, 0\, 0.9)\; font-family:-apple-system\,system-ui\,blinkmacsystemfont\,segoe ui\,roboto\,helvetica neue\,fira sans\,ubuntu\,oxygen\,oxygen sans\,cantarell\,droid sans\,apple color emoji\,segoe ui emoji\,segoe ui emoji\,segoe ui symbol\,lucida grande\,helvetica\,arial\,sans-serif\; font-size:14px">for this informative webinar regarding how your organization can prepare to meet these needs for your patients.</span>
LOCATION:Complimentary Webinar\, CLICK HERE TO REGISTER
UID:e.1404.26187
SEQUENCE:3
DTSTAMP:20260426T031240Z
URL:https://members.kearneycoc.org/events/details/cline-williams-academy-webinar-navigating-guardianships-and-conservatorships-process-pitfalls-and-oversight-challenges-26187
END:VEVENT

END:VCALENDAR
