BEGIN:VCALENDAR
VERSION:2.0
PRODID:-//ChamberMaster//Event Calendar 2.0//EN
METHOD:PUBLISH
X-PUBLISHED-TTL:P3D
REFRESH-INTERVAL:P3D
CALSCALE:GREGORIAN
BEGIN:VEVENT
DTSTART:20160915T173000Z
DTEND:20160915T220000Z
X-MICROSOFT-CDO-ALLDAYEVENT:FALSE
SUMMARY:Cline Williams Employment Law Forum
DESCRIPTION:We invite you and members of your organization to attend our complimentary half-day educational seminar addressing employment-related issues from legal and risk management standpoints. The Employment Law Forum has applied for continuing education credits from the Nebraska and Iowa CLE Commissions\, the HR Certification Institute\, the Nebraska Board of Public Accountancy\, and the Society for Human Resource Management.
X-ALT-DESC;FMTTYPE=text/html:We invite you and members of your organization to attend our complimentary half-day educational seminar addressing employment-related issues from legal and risk management standpoints. The Employment Law Forum has applied for continuing education credits from the Nebraska and Iowa CLE Commissions\, the HR Certification Institute\, the Nebraska Board of Public Accountancy\, and the Society for Human Resource Management.
LOCATION:Younes Conference Center
UID:e.1404.8973
SEQUENCE:3
DTSTAMP:20260421T140601Z
URL:https://members.kearneycoc.org/events/details/cline-williams-employment-law-forum-09-15-2016-8973
END:VEVENT

END:VCALENDAR
