BEGIN:VCALENDAR
VERSION:2.0
PRODID:-//ChamberMaster//Event Calendar 2.0//EN
METHOD:PUBLISH
X-PUBLISHED-TTL:P3D
REFRESH-INTERVAL:P3D
CALSCALE:GREGORIAN
BEGIN:VEVENT
DTSTART:20190910T180000Z
DTEND:20190910T220000Z
X-MICROSOFT-CDO-ALLDAYEVENT:FALSE
SUMMARY:Cline Williams Employment Law Forum
DESCRIPTION:We invite you and members of your organization to attend the 2019 Employment Law Forum to learn about the latest developments in employment\, labor\, and employee benefits laws. Our Annual Employment Law Forum is geared toward human resource professionals\, business owners\, executive employees\, and in-house legal counsel. Credit for this seminar will be sought from the Nebraska and Iowa CLE Commissions\, HR Certification Institute\, Society for Human Resource Management\, and Nebraska Board of Public Accountancy.
X-ALT-DESC;FMTTYPE=text/html:We invite you and members of your organization to attend the 2019 Employment Law Forum to learn about the latest developments in employment\, labor\, and employee benefits laws. Our Annual Employment Law Forum is geared toward human resource professionals\, business owners\, executive employees\, and in-house legal counsel. Credit for this seminar will be sought from the Nebraska and Iowa CLE Commissions\, HR Certification Institute\, Society for Human Resource Management\, and Nebraska Board of Public Accountancy.
LOCATION:Younes Conference Center Kearney\, NE
UID:e.1404.16603
SEQUENCE:3
DTSTAMP:20260425T180944Z
URL:https://members.kearneycoc.org/events/details/cline-williams-employment-law-forum-16603
END:VEVENT

END:VCALENDAR
