BEGIN:VCALENDAR
VERSION:2.0
PRODID:-//ChamberMaster//Event Calendar 2.0//EN
METHOD:PUBLISH
X-PUBLISHED-TTL:P3D
REFRESH-INTERVAL:P3D
CALSCALE:GREGORIAN
BEGIN:VEVENT
DTSTART:20130411T220000Z
DTEND:20130411T230000Z
X-MICROSOFT-CDO-ALLDAYEVENT:FALSE
SUMMARY:CMH Ribbon Cutting
DESCRIPTION:
X-ALT-DESC;FMTTYPE=text/html:
LOCATION:212 West 42nd (Archway Plaza)
UID:e.1404.2257
SEQUENCE:3
DTSTAMP:20260424T122500Z
URL:https://members.kearneycoc.org/events/details/cmh-ribbon-cutting-04-11-2013-2257
END:VEVENT

END:VCALENDAR
