BEGIN:VCALENDAR
VERSION:2.0
PRODID:-//ChamberMaster//Event Calendar 2.0//EN
METHOD:PUBLISH
X-PUBLISHED-TTL:P3D
REFRESH-INTERVAL:P3D
CALSCALE:GREGORIAN
BEGIN:VEVENT
DTSTART:20211013T123000Z
DTEND:20211013T140000Z
X-MICROSOFT-CDO-ALLDAYEVENT:FALSE
SUMMARY:Coffee & Company Community Connections
DESCRIPTION:Join Chamber members @ The Cup for a Coffee & Company! We invite you to join the regularly scheduled Community Connections roundtable discussion with elected officials from Kearney City Council\, Buffalo County Commissioners\, and the Kearney Public School Board hosted @ The Cup! Join the conversation and network with fellow Chamber members!\n\n\n\nCommunity Connections is sponsored by Northwestern Energy.
X-ALT-DESC;FMTTYPE=text/html:Join Chamber members <strong>@ The Cup </strong>for a Coffee &amp\; Company! We invite you to join the regularly scheduled Community Connections roundtable discussion with elected officials from Kearney City Council\, Buffalo County Commissioners\, and the Kearney Public School Board <strong>hosted @ The Cup!</strong> Join the conversation and network with fellow Chamber members!<br />\n<br />\nCommunity Connections is sponsored by <strong>Northwestern Energy</strong>.&nbsp\;
LOCATION:The Cup 12 E. 21st Street Kearney\, NE 68847
UID:e.1404.128
SEQUENCE:3
DTSTAMP:20260423T232500Z
URL:https://members.kearneycoc.org/events/details/coffee-company-community-connections-128
END:VEVENT

END:VCALENDAR
