BEGIN:VCALENDAR
VERSION:2.0
PRODID:-//ChamberMaster//Event Calendar 2.0//EN
METHOD:PUBLISH
X-PUBLISHED-TTL:P3D
REFRESH-INTERVAL:P3D
CALSCALE:GREGORIAN
BEGIN:VEVENT
DTSTART:20220913T130000Z
DTEND:20220913T140000Z
X-MICROSOFT-CDO-ALLDAYEVENT:FALSE
SUMMARY:Coffee & Company - Fellowship of Christian Athletes
DESCRIPTION:Join us for coffee and company at the Fellowship of Christian Athletes Kearney office. Learn more about FCA and meet new team members while enjoying company and conversation with fellow Chamber members.
X-ALT-DESC;FMTTYPE=text/html:<br />\n<span style="font-size:14px\;"><span style="font-family:arial\;">Join us for coffee and company at the Fellowship of Christian Athletes Kearney office. Learn more about FCA and meet new team members while enjoying company and conversation with fellow Chamber members.</span></span>
LOCATION:Fellowship of Christian Athletes 1400 West 22nd St\, Ste C Kearney\, NE 68845
UID:e.1404.20059
SEQUENCE:3
DTSTAMP:20260421T084721Z
URL:https://members.kearneycoc.org/events/details/coffee-company-fellowship-of-christian-athletes-20059
END:VEVENT

END:VCALENDAR
