BEGIN:VCALENDAR
VERSION:2.0
PRODID:-//ChamberMaster//Event Calendar 2.0//EN
METHOD:PUBLISH
X-PUBLISHED-TTL:P3D
REFRESH-INTERVAL:P3D
CALSCALE:GREGORIAN
BEGIN:VEVENT
DTSTART:20191022T130000Z
DTEND:20191022T140000Z
X-MICROSOFT-CDO-ALLDAYEVENT:FALSE
SUMMARY:Coffee & Company - First National Bank
DESCRIPTION:Join us for Coffee & Company with First National Bank!
X-ALT-DESC;FMTTYPE=text/html:Join us for Coffee &amp\; Company with First National Bank!
LOCATION:2223 2nd Ave.
UID:e.1404.18153
SEQUENCE:3
DTSTAMP:20260425T164029Z
URL:https://members.kearneycoc.org/events/details/coffee-company-first-national-bank-18153
END:VEVENT

END:VCALENDAR
