BEGIN:VCALENDAR
VERSION:2.0
PRODID:-//ChamberMaster//Event Calendar 2.0//EN
METHOD:PUBLISH
X-PUBLISHED-TTL:P3D
REFRESH-INTERVAL:P3D
CALSCALE:GREGORIAN
BEGIN:VEVENT
DTSTART:20220422T130000Z
DTEND:20220422T140000Z
X-MICROSOFT-CDO-ALLDAYEVENT:FALSE
SUMMARY:Coffee & Company-Great Plains Communications
DESCRIPTION:Join us for a Coffee & Company @ Nest:Space\, hosted by Great Plains Communications! (previously USA Communications)
X-ALT-DESC;FMTTYPE=text/html:Join us for a Coffee &amp\; Company @ Nest:Space\, hosted by Great Plains Communications! (previously USA Communications)&nbsp\;
LOCATION:@ Nest:Space\, hosted by Great Plains Communications 2224 Central Ave. Kearney\, NE 68845
UID:e.1404.19650
SEQUENCE:3
DTSTAMP:20260423T145815Z
URL:https://members.kearneycoc.org/events/details/coffee-company-great-plains-communications-19650
END:VEVENT

END:VCALENDAR
