BEGIN:VCALENDAR
VERSION:2.0
PRODID:-//ChamberMaster//Event Calendar 2.0//EN
METHOD:PUBLISH
X-PUBLISHED-TTL:P3D
REFRESH-INTERVAL:P3D
CALSCALE:GREGORIAN
BEGIN:VEVENT
DTSTART:20190522T130000Z
DTEND:20190522T140000Z
X-MICROSOFT-CDO-ALLDAYEVENT:FALSE
SUMMARY:Coffee & Company - Great Western Bank
DESCRIPTION:Join us for Coffee & Company with Great Western Bank!
X-ALT-DESC;FMTTYPE=text/html:Join us for Coffee &amp\; Company with Great Western Bank!
LOCATION:Great Western Bank 2120 1st Ave.
UID:e.1404.15657
SEQUENCE:3
DTSTAMP:20260426T020730Z
URL:https://members.kearneycoc.org/events/details/coffee-company-great-western-bank-15657
END:VEVENT

END:VCALENDAR
