BEGIN:VCALENDAR
VERSION:2.0
PRODID:-//ChamberMaster//Event Calendar 2.0//EN
METHOD:PUBLISH
X-PUBLISHED-TTL:P3D
REFRESH-INTERVAL:P3D
CALSCALE:GREGORIAN
BEGIN:VEVENT
DTSTART:20160929T130000Z
DTEND:20160929T140000Z
X-MICROSOFT-CDO-ALLDAYEVENT:FALSE
SUMMARY:Coffee & Company-Just For Ladies
DESCRIPTION:Hope you can start your day with us! Just For Ladies will be serving coffee and bagels! Don't forget your business cards!
X-ALT-DESC;FMTTYPE=text/html:Hope you can start your day with us! Just For Ladies will be serving coffee and bagels! Don&#39\;t forget your business cards!&nbsp\;
LOCATION:Just For Ladies 1408 E 39th St
UID:e.1404.8917
SEQUENCE:3
DTSTAMP:20260421T140602Z
URL:https://members.kearneycoc.org/events/details/coffee-company-just-for-ladies-09-29-2016-8917
END:VEVENT

END:VCALENDAR
