BEGIN:VCALENDAR
VERSION:2.0
PRODID:-//ChamberMaster//Event Calendar 2.0//EN
METHOD:PUBLISH
X-PUBLISHED-TTL:P3D
REFRESH-INTERVAL:P3D
CALSCALE:GREGORIAN
BEGIN:VEVENT
DTSTART:20190327T130000Z
DTEND:20190327T140000Z
X-MICROSOFT-CDO-ALLDAYEVENT:FALSE
SUMMARY:Coffee & Company - Kearney Works
DESCRIPTION:Join us for Coffee & Company with Kearney Works!
X-ALT-DESC;FMTTYPE=text/html:Join us for Coffee &amp\; Company with Kearney Works!
LOCATION:Kearney Area Chamber of Commerce 1007 2nd Ave.
UID:e.1404.15082
SEQUENCE:3
DTSTAMP:20260426T033930Z
URL:https://members.kearneycoc.org/events/details/coffee-company-kearney-works-15082
END:VEVENT

END:VCALENDAR
