BEGIN:VCALENDAR
VERSION:2.0
PRODID:-//ChamberMaster//Event Calendar 2.0//EN
METHOD:PUBLISH
X-PUBLISHED-TTL:P3D
REFRESH-INTERVAL:P3D
CALSCALE:GREGORIAN
BEGIN:VEVENT
DTSTART:20161129T140000Z
DTEND:20161129T150000Z
X-MICROSOFT-CDO-ALLDAYEVENT:FALSE
SUMMARY:Coffee & Company-United Way of the Kearney Area
DESCRIPTION:Join us for Coffee & Company at United Way for #GivingTuesday! #GivingTuesday is a global day of giving. It's a great way to Give Local and get involved in your community.\n\n#GivingTuesday kicks off the charitable season\, when many focus on their holiday and end-of-year giving.
X-ALT-DESC;FMTTYPE=text/html:<p style="box-sizing: inherit\; margin: 0px\; padding: 0px\; border: 0px\; font-variant-numeric: inherit\; font-stretch: inherit\; line-height: 32px\; font-family: bitstream_vera\, serif\; font-size: 15px\; vertical-align: baseline\; color: rgb(135\, 137\, 145)\; background-color: rgb(255\, 255\, 255)\;"><span style="font-family:arial\;">Join us for Coffee &amp\; Company at United Way for&nbsp\;#GivingTuesday! #GivingTuesday is a global day of giving. It&#39\;s a great way to Give Local and get involved in your community.</span></p>\n\n<p style="box-sizing: inherit\; margin: 1em 0px 0px\; padding: 0px\; border: 0px\; font-variant-numeric: inherit\; font-stretch: inherit\; line-height: 32px\; font-family: bitstream_vera\, serif\; font-size: 15px\; vertical-align: baseline\; color: rgb(135\, 137\, 145)\; background-color: rgb(255\, 255\, 255)\;"><span style="font-family:arial\;">#GivingTuesday kicks off the charitable season\, when many focus on their holiday and end-of-year giving.</span></p>\n\n<p style="box-sizing: inherit\; margin: 1em 0px 0px\; padding: 0px\; border: 0px\; font-variant-numeric: inherit\; font-stretch: inherit\; line-height: 32px\; font-family: bitstream_vera\, serif\; font-size: 15px\; vertical-align: baseline\; color: rgb(135\, 137\, 145)\; background-color: rgb(255\, 255\, 255)\;">&nbsp\;</p>\n
LOCATION:United Way of the Kearney Area 4009 6th Ave Ste 19
UID:e.1404.9023
SEQUENCE:3
DTSTAMP:20260421T104346Z
URL:https://members.kearneycoc.org/events/details/coffee-company-united-way-of-the-kearney-area-9023
END:VEVENT

END:VCALENDAR
