BEGIN:VCALENDAR
VERSION:2.0
PRODID:-//ChamberMaster//Event Calendar 2.0//EN
METHOD:PUBLISH
X-PUBLISHED-TTL:P3D
REFRESH-INTERVAL:P3D
CALSCALE:GREGORIAN
BEGIN:VEVENT
DTSTART:20140108T133000Z
DTEND:20140108T143000Z
X-MICROSOFT-CDO-ALLDAYEVENT:FALSE
SUMMARY:Coffee Connection
DESCRIPTION:Join Chamber members and residents for a roundtable discussion with elected officials from Kearney City Council\, Buffalo County Board of Supervisors and the Kearney Public School Board.
X-ALT-DESC;FMTTYPE=text/html:Join Chamber members and residents for a roundtable discussion with elected officials from Kearney City Council\, Buffalo County Board of Supervisors and the Kearney Public School Board.&nbsp\; 
LOCATION:Kearney Area Chamber of Commerce Board room
UID:e.1404.35
SEQUENCE:3
DTSTAMP:20260423T212416Z
URL:https://members.kearneycoc.org/events/details/coffee-connection-01-08-2014-35
END:VEVENT

END:VCALENDAR
