BEGIN:VCALENDAR
VERSION:2.0
PRODID:-//ChamberMaster//Event Calendar 2.0//EN
METHOD:PUBLISH
X-PUBLISHED-TTL:P3D
REFRESH-INTERVAL:P3D
CALSCALE:GREGORIAN
BEGIN:VEVENT
DTSTART:20140611T123000Z
DTEND:20140611T133000Z
X-MICROSOFT-CDO-ALLDAYEVENT:FALSE
SUMMARY:Coffee Connections
DESCRIPTION:Join Chamber members and residents for a roundtable discussion with elected officials from Kearney City Council\, Buffalo County Board of Supervisors and the Kearney Public School Board. Coffee Connections is sponsored by Northwestern Energy.
X-ALT-DESC;FMTTYPE=text/html:Join Chamber members and residents for a roundtable discussion with elected officials from Kearney City Council\, Buffalo County Board of Supervisors and the Kearney Public School Board. Coffee Connections is sponsored by Northwestern Energy.&nbsp\;
LOCATION:Kearney Area Chamber of Commerce Board room
UID:e.1404.40
SEQUENCE:3
DTSTAMP:20260423T113521Z
URL:https://members.kearneycoc.org/events/details/coffee-connections-06-11-2014-40
END:VEVENT

END:VCALENDAR
