BEGIN:VCALENDAR
VERSION:2.0
PRODID:-//ChamberMaster//Event Calendar 2.0//EN
METHOD:PUBLISH
X-PUBLISHED-TTL:P3D
REFRESH-INTERVAL:P3D
CALSCALE:GREGORIAN
BEGIN:VEVENT
DTSTART:20190724T190000Z
DTEND:20190724T200000Z
X-MICROSOFT-CDO-ALLDAYEVENT:FALSE
SUMMARY:Collection Connection
DESCRIPTION:Learn more about art in one-hour presentations by regional experts. FREE and open to the public. Rick Brown: Verbatim: All I Did Was Ask Wednesday\, July 24   2:00 p.m. Kearney Hub arts and entertainment reporter Rick Brown shares snippets of his conversations recorded with Nebraska artists during his 13 years of writing about the art scene in central Nebraska. Brown studied media production at the University of Arizona. His background in music and theater includes work with Arizona Theater Company\, writing award-winning plays as well as a 17-year stint as a producer and host of a 30-minute children's show on non-commercial radio stations. He writes a weekly art column for the Kearney Hub and covers the arts in mid Nebraska. In his spare time\, Rick plays the accordion\, tells stories\, makes fine art mobiles\, and collects twigs.
X-ALT-DESC;FMTTYPE=text/html:Learn more about art in one-hour presentations by regional experts. FREE and open to the public. Rick Brown: Verbatim: All I Did Was Ask Wednesday\, July 24 &bull\; 2:00 p.m. Kearney Hub arts and entertainment reporter Rick Brown shares snippets of his conversations recorded with Nebraska artists during his 13 years of writing about the art scene in central Nebraska. Brown studied media production at the University of Arizona. His background in music and theater includes work with Arizona Theater Company\, writing award-winning plays as well as a 17-year stint as a producer and host of a 30-minute children&rsquo\;s show on non-commercial radio stations. He writes a weekly art column for the Kearney Hub and covers the arts in mid Nebraska. In his spare time\, Rick plays the accordion\, tells stories\, makes fine art mobiles\, and collects twigs.
LOCATION:Museum of Nebraska Art 2401 Central Avenue Kearney\, NE 68847 (308) 865-8559
UID:e.1404.16492
SEQUENCE:3
DTSTAMP:20260425T212913Z
URL:https://members.kearneycoc.org/events/details/collection-connection-07-24-2019-16492
END:VEVENT

END:VCALENDAR
