BEGIN:VCALENDAR
VERSION:2.0
PRODID:-//ChamberMaster//Event Calendar 2.0//EN
METHOD:PUBLISH
X-PUBLISHED-TTL:P3D
REFRESH-INTERVAL:P3D
CALSCALE:GREGORIAN
BEGIN:VEVENT
DTSTART:20190828T190000Z
DTEND:20190828T200000Z
X-MICROSOFT-CDO-ALLDAYEVENT:FALSE
SUMMARY:Collection Connection
DESCRIPTION:Learn more about art in one-hour presentations by regional experts. FREE and open to the public. Roxanne Aistrope: Picture Framing Wednesday\, August 28   2:00 p.m. From the earliest of times when the making of art began\, two-dimensional artworks are made complete with a carefully selected picture frame. Choosing the ideal frame for any artwork is a complex process. There are woods in many shades\, metals with countless finishes\, and golden gilts in untold tones in traditional or contemporary styles. And that's just the beginning! Roxanne Aistrope\, owner of On Site Studio Framing in Kearney\, talks about the history and components of custom-made picture framing. She has been in the framing industry since 1993. Aistrope earned her bachelor's degree in business with an emphasis in interior design from the University of Nebraska at Kearney.
X-ALT-DESC;FMTTYPE=text/html:Learn more about art in one-hour presentations by regional experts. FREE and open to the public. Roxanne Aistrope: Picture Framing Wednesday\, August 28 &bull\; 2:00 p.m. From the earliest of times when the making of art began\, two-dimensional artworks are made complete with a carefully selected picture frame. Choosing the ideal frame for any artwork is a complex process. There are woods in many shades\, metals with countless finishes\, and golden gilts in untold tones in traditional or contemporary styles. And that&rsquo\;s just the beginning! Roxanne Aistrope\, owner of On Site Studio Framing in Kearney\, talks about the history and components of custom-made picture framing. She has been in the framing industry since 1993. Aistrope earned her bachelor&rsquo\;s degree in business with an emphasis in interior design from the University of Nebraska at Kearney.
LOCATION:Museum of Nebraska Art 2401 Central Avenue Kearney\, NE 68847 (308) 865-8559
UID:e.1404.16493
SEQUENCE:3
DTSTAMP:20260425T195110Z
URL:https://members.kearneycoc.org/events/details/collection-connection-08-28-2019-16493
END:VEVENT

END:VCALENDAR
