BEGIN:VCALENDAR
VERSION:2.0
PRODID:-//ChamberMaster//Event Calendar 2.0//EN
METHOD:PUBLISH
X-PUBLISHED-TTL:P3D
REFRESH-INTERVAL:P3D
CALSCALE:GREGORIAN
BEGIN:VEVENT
DTSTART:20190626T190000Z
DTEND:20190626T200000Z
X-MICROSOFT-CDO-ALLDAYEVENT:FALSE
SUMMARY:Collection ConnectionWednesday\, June 26 • 2:00 p.m.
DESCRIPTION:Learn more about art in one-hour presentations by regional experts. FREE and open to the public. Dr. William Stoutamire: Decorative Arts: The Philip and Mildred Strain Collection Wednesday\, June 26   2:00 p.m. Frank Museum Director Dr. William F. Stoutamire shares the story behind the incredible decorative arts collection of Kearney's Philip and Mildred Strain\, now on display at the G.W. Frank Museum of History and Culture. For much of their lives\, the Strains quietly collected valuable pieces of European and American decorative art by Tiffany\, Steuben\, Meissen\, S vres\, Royal Vienna\, and more. Learn what drove the Strains to secretly amass the most significant decorative arts collection in the Great Plains region\, as well as what stories this art can tell   tales of corruption\, bribery\, and theft across the globe. Dr. Stoutamire holds a Ph.D. in History from Arizona State University and has served as Frank Museum Director since 2014.
X-ALT-DESC;FMTTYPE=text/html:Learn more about art in one-hour presentations by regional experts. FREE and open to the public. Dr. William Stoutamire: Decorative Arts: The Philip and Mildred Strain Collection Wednesday\, June 26 &bull\; 2:00 p.m. Frank Museum Director Dr. William F. Stoutamire shares the story behind the incredible decorative arts collection of Kearney&rsquo\;s Philip and Mildred Strain\, now on display at the G.W. Frank Museum of History and Culture. For much of their lives\, the Strains quietly collected valuable pieces of European and American decorative art by Tiffany\, Steuben\, Meissen\, S&egrave\;vres\, Royal Vienna\, and more. Learn what drove the Strains to secretly amass the most significant decorative arts collection in the Great Plains region\, as well as what stories this art can tell &ndash\; tales of corruption\, bribery\, and theft across the globe. Dr. Stoutamire holds a Ph.D. in History from Arizona State University and has served as Frank Museum Director since 2014.
LOCATION:Museum of Nebraska Art 2401 Central Avenue Kearney\, NE 68847 (308) 865-8559
UID:e.1404.16491
SEQUENCE:3
DTSTAMP:20260426T004107Z
URL:https://members.kearneycoc.org/events/details/collection-connectionwednesday-june-26-2-00-p-m-16491
END:VEVENT

END:VCALENDAR
