BEGIN:VCALENDAR
VERSION:2.0
PRODID:-//ChamberMaster//Event Calendar 2.0//EN
METHOD:PUBLISH
X-PUBLISHED-TTL:P3D
REFRESH-INTERVAL:P3D
CALSCALE:GREGORIAN
BEGIN:VEVENT
DTSTART:20220208T220000Z
DTEND:20220208T230000Z
X-MICROSOFT-CDO-ALLDAYEVENT:FALSE
SUMMARY:Colonels
DESCRIPTION:Chair: Mat Cope - Cope Ag Services\n\nVice Chair:  John Becker - CopyCat Printing\n\n\n\nPlease join us next week on Tuesday\, February 8th as we award the Colonel of the Year and General of the Year to two committed individuals!  Our meeting will be held at the Chamber boardroom at 4:00 p.m.  Other group updates will be shared.   We encourage you to visit the Chamber newsletter to read about last month's visit to Discovery Hall and presenting our Doing Business Award.\n\nhttps://www.kearneycoc.org/post/the-colonels-present-doing-business-award-to-the-college-of-business-technology\n\n\n\n\n\n\n\n\n\nThe Colonels Club is a men's group whose purpose is to serve as a public relations arm of the Kearney Area Chamber of Commerce. The Colonels Club does this is by supporting the "Doing Business" award\, attending and promoting grand openings\, Ribbon Cuttings\, Business After Hours\, Gateway Farm Expo\, the KACC Annual Meeting and the Kearney Golf Classic and by working on membership recruitment and retention. Colonels are limited to one Colonel per business and 50 members. This group does have a small annual fee.
X-ALT-DESC;FMTTYPE=text/html:<span style="font-size:14px\;"><span style="font-family:arial\;"><strong>Chair:</strong>&nbsp\;Mat Cope - Cope Ag Services</span></span><br />\n<span style="font-size:14px\;"><span style="font-family:arial\;"><strong>Vice Chair:&nbsp\; </strong>John Becker - CopyCat Printing</span></span><br />\n<br />\nPlease join us next week on Tuesday\, February 8<sup>th</sup> as we award the Colonel of the Year and General of the Year to two committed individuals!&nbsp\; Our meeting will be held at the Chamber boardroom at 4:00 p.m.&nbsp\; Other group updates will be shared. &nbsp\;&nbsp\;We encourage you to visit the Chamber newsletter to read about last month&rsquo\;s visit to Discovery Hall and presenting our Doing Business Award.<br />\n<a href="https://url.avanan.click/v2/___https:/www.kearneycoc.org/post/the-colonels-present-doing-business-award-to-the-college-of-business-technology___.YXAzOmtlYXJuZXljYXRzOmE6ZzozNzNhNjM0MzdjNWYwZjNjODJiNTlhZjBkODZjMDZjYzo1OmI5ZjY6MDQxNDZjMzVkYWQyYWRiNTViNGJiYjlkODFkZTQ0ZGYyOTNmMjIyNzMzMjFhYWJiOTUyMGExMjMzODg0YzViOTpoOk4" target="_blank" title="Protected by Avanan: https://www.kearneycoc.org/post/the-colonels-present-doing-business-award-to-the-college-of-business-technology">https://www.kearneycoc.org/post/the-colonels-present-doing-business-award-to-the-college-of-business-technology</a><br />\n<br />\n<br />\n<br />\n<br />\n<span style="font-size:14px\;"><span style="font-family:arial\;">The Colonels Club is a men&rsquo\;s group whose purpose is to serve as a public relations arm of the Kearney Area Chamber of Commerce. The Colonels Club does this is by supporting the &ldquo\;Doing Business&rdquo\; award\, attending and promoting grand openings\, Ribbon Cuttings\, Business After Hours\, Gateway Farm Expo\, the KACC Annual Meeting and the Kearney Golf Classic and by working on membership recruitment and retention.&nbsp\;Colonels are limited to one Colonel per business and 50 members. This group does have a small annual fee.</span></span>
LOCATION:Kearney Area Chamber of Commerce
UID:e.1404.1730
SEQUENCE:3
DTSTAMP:20260423T163441Z
URL:https://members.kearneycoc.org/events/details/colonels-02-08-2022-1730
END:VEVENT

END:VCALENDAR
