BEGIN:VCALENDAR
VERSION:2.0
PRODID:-//ChamberMaster//Event Calendar 2.0//EN
METHOD:PUBLISH
X-PUBLISHED-TTL:P3D
REFRESH-INTERVAL:P3D
CALSCALE:GREGORIAN
BEGIN:VEVENT
DTSTART:20150908T210000Z
DTEND:20150908T220000Z
X-MICROSOFT-CDO-ALLDAYEVENT:FALSE
SUMMARY:Colonels
DESCRIPTION:Chair: Randy Tonniges - Tonniges & Associates\n\nVice Chair: Doug Mitchell - Marcotte Insurance\n\n\n\nThe Colonels Club is a men's group whose purpose is to serve as a public relations arm of the Kearney Area Chamber of Commerce.\n\nThe Colonels Club does this is by supporting the "Doing Business" award\, attending and promoting grand openings\, Ribbon Cuttings\, Business After Hours\, Gateway Farm Expo\, the KACC Annual Meeting and the Kearney Golf Classic and by working on membership recruitment and retention. Colonels are limited to one Colonel per business and 50 members. This group does have a small annual fee.
X-ALT-DESC;FMTTYPE=text/html:<span style="font-size:14px\;"><span style="font-family:arial\;"><strong>Chair:</strong> Randy Tonniges - Tonniges &amp\; Associates<br />\n<strong>Vice Chair:</strong> Doug Mitchell - Marcotte Insurance<br />\n<br />\nThe Colonels Club is a men&rsquo\;s group whose purpose is to serve as a public relations arm of the Kearney Area Chamber of Commerce.<br />\nThe Colonels Club does this is by supporting the &ldquo\;Doing Business&rdquo\; award\, attending and promoting grand openings\, Ribbon Cuttings\, Business After Hours\, Gateway Farm Expo\, the KACC Annual Meeting and the Kearney Golf Classic and by working on membership recruitment and retention.&nbsp\;Colonels are limited to one Colonel per business and 50 members. This group does have a small annual fee.</span></span>
LOCATION:Fort Kearney Shooting Sports Association Poole Ave Kearney NE 68847
UID:e.1404.1653
SEQUENCE:3
DTSTAMP:20260422T114227Z
URL:https://members.kearneycoc.org/events/details/colonels-09-08-2015-1653
END:VEVENT

END:VCALENDAR
