BEGIN:VCALENDAR
VERSION:2.0
PRODID:-//ChamberMaster//Event Calendar 2.0//EN
METHOD:PUBLISH
X-PUBLISHED-TTL:P3D
REFRESH-INTERVAL:P3D
CALSCALE:GREGORIAN
BEGIN:VEVENT
DTSTART:20211012T210000Z
DTEND:20211012T220000Z
X-MICROSOFT-CDO-ALLDAYEVENT:FALSE
SUMMARY:Colonels
DESCRIPTION:Chair: Casey Fosher - Exchange Bank\n\nVice Chair:  Mat Cope - Cope Ag Services\n\n\n\nDuring October's meeting\, we will review new Colonel nominations\, as well as deliver the Doing Business Award to K-town Cakery\, located at 2206 Central Ave.  Social will follow at The Crafty Dog\, located at 1325 2nd Ave\, Suite A.\n\n\n\n\n\n\n\nThe Colonels Club is a men's group whose purpose is to serve as a public relations arm of the Kearney Area Chamber of Commerce. The Colonels Club does this is by supporting the "Doing Business" award\, attending and promoting grand openings\, Ribbon Cuttings\, Business After Hours\, Gateway Farm Expo\, the KACC Annual Meeting and the Kearney Golf Classic and by working on membership recruitment and retention. Colonels are limited to one Colonel per business and 50 members. This group does have a small annual fee.
X-ALT-DESC;FMTTYPE=text/html:<span style="font-size:14px\;"><span style="font-family:arial\;"><strong>Chair:</strong>&nbsp\;Casey Fosher</span></span><span style="color: rgb(51\, 51\, 51)\; font-family: arial\; font-size: 14px\; background-color: rgb(255\, 255\, 255)\;">&nbsp\;- Exchange Bank</span><br />\n<span style="font-size:14px\;"><span style="font-family:arial\;"><strong>Vice Chair:&nbsp\; </strong>Mat Cope - Cope Ag Services<br />\n<br />\nDuring October&#39\;s meeting\, we will review new Colonel nominations\, as well as deliver the Doing Business Award to K-town Cakery\, located at 2206 Central Ave.&nbsp\; Social will follow at The Crafty Dog\, located at 1325 2nd Ave\, Suite A.<br />\n<br />\n<br />\n<br />\nThe Colonels Club is a men&rsquo\;s group whose purpose is to serve as a public relations arm of the Kearney Area Chamber of Commerce. The Colonels Club does this is by supporting the &ldquo\;Doing Business&rdquo\; award\, attending and promoting grand openings\, Ribbon Cuttings\, Business After Hours\, Gateway Farm Expo\, the KACC Annual Meeting and the Kearney Golf Classic and by working on membership recruitment and retention.&nbsp\;Colonels are limited to one Colonel per business and 50 members. This group does have a small annual fee.</span></span>
LOCATION:Kearney Area Chamber of Commerce
UID:e.1404.1726
SEQUENCE:3
DTSTAMP:20260423T232434Z
URL:https://members.kearneycoc.org/events/details/colonels-10-12-2021-1726
END:VEVENT

END:VCALENDAR
