BEGIN:VCALENDAR
VERSION:2.0
PRODID:-//ChamberMaster//Event Calendar 2.0//EN
METHOD:PUBLISH
X-PUBLISHED-TTL:P3D
REFRESH-INTERVAL:P3D
CALSCALE:GREGORIAN
BEGIN:VEVENT
DTSTART:20141209T220000Z
DTEND:20141209T230000Z
X-MICROSOFT-CDO-ALLDAYEVENT:FALSE
SUMMARY:Colonels Christmas Party
DESCRIPTION:Colonels Christmas Party!\n\n\n\nThe Colonel Christmas Party will be December 9th at 4:00 p.m. at The Loft (inside Cunningham's\, upstairs). Light appetizers and a few drinks will be provided. See you there!  \n\n\n\n\n\nThe Colonels Club is a men's group whose purpose is to serve as a public relations arm of the Kearney Area Chamber of Commerce.\n\nThe Colonels Club does this is by supporting the "Doing Business" award\, attending and promoting grand openings\, Ribbon Cuttings\, Business After Hours\, Gateway Farm Expo\, the KACC Annual Meeting and the Kearney Golf Classic and by working on membership recruitment and retention. Colonels are limited to one Colonel per business and 50 members. This group does have a small annual fee.
X-ALT-DESC;FMTTYPE=text/html:<strong><u><span style="color:red\;"><span style="font-family:arial\,sans-serif\;"><span style="font-size:10.5pt\;">Colonels&nbsp\;Christmas Party!</span></span></span></u></strong><br />\n<br />\n<span style="font-family:arial\,sans-serif\;"><span style="font-size:10.5pt\;">The<strong><span style="color:red\;"> Colonel Christmas Party</span></strong> will be <strong><span style="color:green\;">December 9th at 4:00 p.m. at The Loft</span></strong> (inside Cunningham&#39\;s\, upstairs). Light appetizers and a few drinks will be provided. See you there! &nbsp\;</span></span><br />\n<br />\n<br />\n<span style="font-size:14px\;"><span style="font-family:arial\;">The Colonels Club is a men&rsquo\;s group whose purpose is to serve as a public relations arm of the Kearney Area Chamber of Commerce.<br />\nThe Colonels Club does this is by supporting the &ldquo\;Doing Business&rdquo\; award\, attending and promoting grand openings\, Ribbon Cuttings\, Business After Hours\, Gateway Farm Expo\, the KACC Annual Meeting and the Kearney Golf Classic and by working on membership recruitment and retention.&nbsp\;Colonels are limited to one Colonel per business and 50 members. This group does have a small annual fee.</span></span>
LOCATION:The Loft (inside Cunningham's).
UID:e.1404.1644
SEQUENCE:3
DTSTAMP:20260423T034220Z
URL:https://members.kearneycoc.org/events/details/colonels-christmas-party-12-09-2014-1644
END:VEVENT

END:VCALENDAR
