BEGIN:VCALENDAR
VERSION:2.0
PRODID:-//ChamberMaster//Event Calendar 2.0//EN
METHOD:PUBLISH
X-PUBLISHED-TTL:P3D
REFRESH-INTERVAL:P3D
CALSCALE:GREGORIAN
BEGIN:VEVENT
DTSTART:20110404T153500Z
DTEND:20110404T153500Z
X-MICROSOFT-CDO-ALLDAYEVENT:FALSE
SUMMARY:Colonels-generals (Don't bill)
DESCRIPTION:
X-ALT-DESC;FMTTYPE=text/html:
LOCATION:
UID:e.1404.5
SEQUENCE:3
DTSTAMP:20260426T033052Z
URL:https://members.kearneycoc.org/events/details/colonels-generals-don-t-bill-04-04-2011-5
END:VEVENT

END:VCALENDAR
