BEGIN:VCALENDAR
VERSION:2.0
PRODID:-//ChamberMaster//Event Calendar 2.0//EN
METHOD:PUBLISH
X-PUBLISHED-TTL:P3D
REFRESH-INTERVAL:P3D
CALSCALE:GREGORIAN
BEGIN:VEVENT
DTSTART:20200908T210000Z
DTEND:20200908T220000Z
X-MICROSOFT-CDO-ALLDAYEVENT:FALSE
SUMMARY:Colonels - NO MEETING
DESCRIPTION:Chair: Mark McBride - Horner Lieske McBride & Kuhl Funeral & Cremations\n\nVice Chair: Casey Fosher - Exchange Bank\n\n\n\nThe Colonels Club is a men's group whose purpose is to serve as a public relations arm of the Kearney Area Chamber of Commerce. The Colonels Club does this is by supporting the "Doing Business" award\, attending and promoting grand openings\, Ribbon Cuttings\, Business After Hours\, Gateway Farm Expo\, the KACC Annual Meeting and the Kearney Golf Classic and by working on membership recruitment and retention. Colonels are limited to one Colonel per business and 50 members. This group does have a small annual fee.
X-ALT-DESC;FMTTYPE=text/html:<span style="font-size:14px\;"><span style="font-family:arial\;"><strong>Chair:</strong>&nbsp\;</span></span><span style="color: rgb(51\, 51\, 51)\; font-family: arial\; font-size: 14px\; background-color: rgb(255\, 255\, 255)\;">Mark McBride - Horner Lieske McBride &amp\; Kuhl Funeral &amp\; Cremations</span><br />\n<span style="font-size:14px\;"><span style="font-family:arial\;"><strong>Vice Chair:&nbsp\;</strong>Casey Fosher - Exchange Bank<br />\n<br />\nThe Colonels Club is a men&rsquo\;s group whose purpose is to serve as a public relations arm of the Kearney Area Chamber of Commerce. The Colonels Club does this is by supporting the &ldquo\;Doing Business&rdquo\; award\, attending and promoting grand openings\, Ribbon Cuttings\, Business After Hours\, Gateway Farm Expo\, the KACC Annual Meeting and the Kearney Golf Classic and by working on membership recruitment and retention.&nbsp\;Colonels are limited to one Colonel per business and 50 members. This group does have a small annual fee.</span></span>
LOCATION:No meeting - Group Golf Outing moved to September 15th
UID:e.1404.1713
SEQUENCE:3
DTSTAMP:20260424T223243Z
URL:https://members.kearneycoc.org/events/details/colonels-no-meeting-1713
END:VEVENT

END:VCALENDAR
