BEGIN:VCALENDAR
VERSION:2.0
PRODID:-//ChamberMaster//Event Calendar 2.0//EN
METHOD:PUBLISH
X-PUBLISHED-TTL:P3D
REFRESH-INTERVAL:P3D
CALSCALE:GREGORIAN
BEGIN:VEVENT
DTSTART:20140620T140000Z
DTEND:20140620T160000Z
X-MICROSOFT-CDO-ALLDAYEVENT:FALSE
SUMMARY:Come Meet The New Staff
DESCRIPTION:Join us Friday\, June 20th for a breakfast treat and meet the new members of the Kearney Chamber staff. Make sure to bring your business cards for a chance to win tickets to the July 3rd\, Gavin DeGraw concert\, which is prior to our Fireworks Event.
X-ALT-DESC;FMTTYPE=text/html:Join us Friday\, June 20th&nbsp\;for a breakfast treat and meet the new members of the Kearney Chamber staff. Make sure to bring your business cards for a chance to win tickets to the July 3rd\, Gavin DeGraw concert\, which is prior to our Fireworks Event.
LOCATION:Kearney Chamber of Commerce
UID:e.1404.4858
SEQUENCE:3
DTSTAMP:20260423T113954Z
URL:https://members.kearneycoc.org/events/details/come-meet-the-new-staff-06-20-2014-4858
END:VEVENT

END:VCALENDAR
