BEGIN:VCALENDAR
VERSION:2.0
PRODID:-//ChamberMaster//Event Calendar 2.0//EN
METHOD:PUBLISH
X-PUBLISHED-TTL:P3D
REFRESH-INTERVAL:P3D
CALSCALE:GREGORIAN
BEGIN:VEVENT
DTSTART:20130411T130000Z
DTEND:20130412T210000Z
X-MICROSOFT-CDO-ALLDAYEVENT:FALSE
SUMMARY:Commercial Driver's License (CDL) Basic Knowledge Class
DESCRIPTION:The Nebraska Safety Center has scheduled a Commercial Driver's License (CDL) Basic Knowledge Class for April 11 & 12\, 2013.\n\n	The class will be held from 8:00 am to 4:00 pm each day at the Nebraska Safety Center Driving Range\, 1801 W Railroad Street\, Kearney NE.\n\n	The Commercial Driver's License Basic Skills Course is a 15-hour class. Topics covered include: General Knowledge\, Transporting Cargo Safely\, Air Brakes\, and Combination Vehicles. \n\n	This class does not fully prepare a potential commercial vehicle driver for a career in commercial truck driving. It only provides the basic knowledge required to complete the basic CDL written tests.\n\n	Cost for the class is $150 per student.  \n\n	Call (308) 865-8256 to register.  \n\n	For more information contact Dennis Holtz (308) 865-8562 or holtzde@unk.edu.
X-ALT-DESC;FMTTYPE=text/html:<!--[if gte mso 9]><xml>\n <o:OfficeDocumentSettings>\n  <o:AllowPNG/>\n </o:OfficeDocumentSettings>\n</xml><![endif]-->\n<p class="MsoNormal">\n	<span style="font-size:14.0pt\;line-height:115%\;font-family:\n&quot\;Calibri&quot\;\,&quot\;sans-serif&quot\;\;mso-ascii-theme-font:minor-latin\;mso-hansi-theme-font:\nminor-latin">The Nebraska Safety Center has scheduled a Commercial Driver&rsquo\;s License (CDL) Basic Knowledge Class for April 11 &amp\; 12\, 2013.</span></p>\n<p class="MsoNormal">\n	<span style="font-size:14.0pt\;line-height:115%\;font-family:\n&quot\;Calibri&quot\;\,&quot\;sans-serif&quot\;\;mso-ascii-theme-font:minor-latin\;mso-hansi-theme-font:\nminor-latin">The class will be held from 8:00 am to 4:00 pm each day at the Nebraska Safety Center Driving Range\, 1801 W Railroad Street\, Kearney NE.</span></p>\n<p class="MsoNormal" style="mso-pagination:none">\n	<span style="font-size:14.0pt\;\nline-height:115%\;font-family:&quot\;Calibri&quot\;\,&quot\;sans-serif&quot\;\;mso-ascii-theme-font:minor-latin\;\nmso-hansi-theme-font:minor-latin">The Commercial Driver&rsquo\;s License Basic Skills Course is a 15-hour class. Topics covered include: General Knowledge\, Transporting Cargo Safely\, Air Brakes\, and Combination Vehicles. </span></p>\n<p class="MsoNormal" style="mso-pagination:none">\n	<span style="font-size:14.0pt\;\nline-height:115%\;font-family:&quot\;Calibri&quot\;\,&quot\;sans-serif&quot\;\;mso-ascii-theme-font:minor-latin\;\nmso-hansi-theme-font:minor-latin">This class does not fully prepare a potential commercial vehicle driver for a career in commercial truck driving. It only provides the basic knowledge required to complete the basic CDL written tests.</span></p>\n<p class="MsoNormal" style="mso-pagination:none">\n	<span style="font-size:14.0pt\;\nline-height:115%\;font-family:&quot\;Calibri&quot\;\,&quot\;sans-serif&quot\;\;mso-ascii-theme-font:minor-latin\;\nmso-hansi-theme-font:minor-latin">Cost for the class is $150 per student.<span style="mso-spacerun:yes">&nbsp\; </span></span></p>\n<p class="MsoNormal">\n	<span style="font-size:14.0pt\;line-height:115%\;font-family:\n&quot\;Calibri&quot\;\,&quot\;sans-serif&quot\;\;mso-ascii-theme-font:minor-latin\;mso-hansi-theme-font:\nminor-latin">Call (308) 865-8256 to register.<span style="mso-spacerun:yes">&nbsp\; </span></span></p>\n<p class="MsoNormal">\n	<span style="font-size:14.0pt\;line-height:115%\;font-family:\n&quot\;Calibri&quot\;\,&quot\;sans-serif&quot\;\;mso-ascii-theme-font:minor-latin\;mso-hansi-theme-font:\nminor-latin">For more information contact Dennis Holtz (308) 865-8562 or </span><a href="mailto:holtzde@unk.edu"><span style="font-size:14.0pt\;line-height:115%\;\nfont-family:&quot\;Calibri&quot\;\,&quot\;sans-serif&quot\;\;mso-ascii-theme-font:minor-latin\;mso-hansi-theme-font:\nminor-latin">holtzde@unk.edu</span></a><span style="font-size:14.0pt\;\nline-height:115%\;font-family:&quot\;Calibri&quot\;\,&quot\;sans-serif&quot\;\;mso-ascii-theme-font:minor-latin\;\nmso-hansi-theme-font:minor-latin">.</span></p>\n
LOCATION:1801 W Railroad Street\, Kearney NE
UID:e.1404.2466
SEQUENCE:3
DTSTAMP:20260424T121945Z
URL:https://members.kearneycoc.org/events/details/commercial-driver-s-license-cdl-basic-knowledge-class-04-11-2013-2466
END:VEVENT

END:VCALENDAR
