BEGIN:VCALENDAR
VERSION:2.0
PRODID:-//ChamberMaster//Event Calendar 2.0//EN
METHOD:PUBLISH
X-PUBLISHED-TTL:P3D
REFRESH-INTERVAL:P3D
CALSCALE:GREGORIAN
BEGIN:VEVENT
DTSTART;VALUE=DATE:20140322
DTEND;VALUE=DATE:20140323
TRANSP:TRANSPARENT
X-MICROSOFT-CDO-ALLDAYEVENT:TRUE
SUMMARY:Community Action Partnership of Mid-Nebraska: Paint It Forward
DESCRIPTION:Join us Saturday\, March 22nd and help Paint it Forward for a great cause.  A local artist will help guide you to paint your own masterpiece which is then yours to take home.  No experience necessary.  We will provide all of the materials and a free drink coupon.  All of this for only a $35 registration fee.  Bring your friends\, bring your creative spirit\, and prepare to have a great time. \n\nPick the sessn time tha woks the best:\n\nSesion 1 - 10:00 a.m\n\nSession 2 - 2:00 p.m.\n\nSession 3 - 7:0 p.m.\n\n\n\nLocation:  Fraternal Order of Eagles - 17 W. 24th St.\, Kearney\, NE\n\n\n\nThe proceeds from the evet wll go to beneft the Community Action Life Skills Progrms.  Check out our Facebook page for more informaion:
X-ALT-DESC;FMTTYPE=text/html:Join us Saturday\, March 22nd and help Paint it Forward for a great cause.&nbsp\; A local artist will help guide you to paint your own masterpiece which is then yours to take home.&nbsp\; No experience necessary.&nbsp\; We will provide all of the materials and a free drink coupon.&nbsp\; All of this for only a $35 registration fee.&nbsp\; Bring your friends\, bring your creative spirit\, and prepare to have a great time.&nbsp\;<br />\nPick the sessn time tha woks the best:<br />\nSesion 1 - 10:00 a.m<br />\nSession 2 - 2:00 p.m.<br />\nSession 3 - 7:0 p.m.<br />\n<br />\nLocation:&nbsp\; Fraternal Order of Eagles - 17 W. 24th St.\, Kearney\, NE<br />\n<br />\nThe proceeds from the evet wll go to beneft the Community Action Life Skills Progrms.&nbsp\; Check out our Facebook page for more informaion:&nbsp\;<br type="_moz" />\n
LOCATION:Fraternal Order of Eagles - 17 W. 24th St.\, Kearney\, NE
UID:e.1404.4508
SEQUENCE:3
DTSTAMP:20260423T164122Z
URL:https://members.kearneycoc.org/events/details/community-action-partnership-of-mid-nebraska-paint-it-forward-03-22-2014-4508
END:VEVENT

END:VCALENDAR
