BEGIN:VCALENDAR
VERSION:2.0
PRODID:-//ChamberMaster//Event Calendar 2.0//EN
METHOD:PUBLISH
X-PUBLISHED-TTL:P3D
REFRESH-INTERVAL:P3D
CALSCALE:GREGORIAN
BEGIN:VEVENT
DTSTART:20140920T190000Z
DTEND:20140920T213000Z
X-MICROSOFT-CDO-ALLDAYEVENT:FALSE
SUMMARY:Community Action's 50th Anniversary Celebration
DESCRIPTION:Celebrate their 50th anniversary with Community Action Partnership of Mid Nebraska at The World Theatre in Kearney as they sponsor the movie\, Cool Runnings.
X-ALT-DESC;FMTTYPE=text/html:Celebrate their 50th anniversary with Community Action Partnership of Mid Nebraska at The World Theatre in Kearney as they sponsor the movie\, Cool Runnings.
LOCATION:2318 Central Ave\, Kearney\, NE
UID:e.1404.5313
SEQUENCE:3
DTSTAMP:20260423T065846Z
URL:https://members.kearneycoc.org/events/details/community-action-s-50th-anniversary-celebration-09-20-2014-5313
END:VEVENT

END:VCALENDAR
