BEGIN:VCALENDAR
VERSION:2.0
PRODID:-//ChamberMaster//Event Calendar 2.0//EN
METHOD:PUBLISH
X-PUBLISHED-TTL:P3D
REFRESH-INTERVAL:P3D
CALSCALE:GREGORIAN
BEGIN:VEVENT
DTSTART:20210113T133000Z
DTEND:20210113T143000Z
X-MICROSOFT-CDO-ALLDAYEVENT:FALSE
SUMMARY:Community Connections
DESCRIPTION:Join Chamber members for a roundtable discussion with elected officials from Kearney City Council\, Buffalo County Commissioners\, and the Kearney Public School Board. Community Connections is sponsored by Northwestern Energy. \n\n\n\nWe will stream Community Connections live on our Facebook page too but if you would like to join via Zoom see the link below:\n\nTopic: January Community Connections\n\nTime: Jan 13\, 2021 07:30 AM Central Time (US and Canada)\n\n\n\nJoin Zoom Meeting\n\nhttps://zoom.us/j/3082373132\n\n\n\nMeeting ID: 308 237 3132
X-ALT-DESC;FMTTYPE=text/html:Join Chamber members for a roundtable discussion with elected officials from Kearney City Council\, Buffalo County Commissioners\, and the Kearney Public School Board. Community Connections is sponsored by <strong>Northwestern Energy</strong>.&nbsp\;<br />\n<br />\nWe will stream Community Connections live on our Facebook page too but if you would like to join via Zoom see the link below:<br />\nTopic: January Community Connections<br />\nTime: Jan 13\, 2021 07:30 AM Central Time (US and Canada)<br />\n<br />\nJoin Zoom Meeting<br />\nhttps://zoom.us/j/3082373132<br />\n<br />\nMeeting ID: 308 237 3132<br />\n&nbsp\;
LOCATION:Kearney Area Chamber of Commerce Board Room\, Chamber Facebook page or Zoom Topic: January Community Connections Time: Jan 13\, 2021 07:30 AM Central Time (US and Canada) Join Zoom Meeting https://zoom.us/j/3082373132 Meeting ID: 308 237 3132
UID:e.1404.119
SEQUENCE:3
DTSTAMP:20260424T155805Z
URL:https://members.kearneycoc.org/events/details/community-connections-01-13-2021-119
END:VEVENT

END:VCALENDAR
