BEGIN:VCALENDAR
VERSION:2.0
PRODID:-//ChamberMaster//Event Calendar 2.0//EN
METHOD:PUBLISH
X-PUBLISHED-TTL:P3D
REFRESH-INTERVAL:P3D
CALSCALE:GREGORIAN
BEGIN:VEVENT
DTSTART:20220309T133000Z
DTEND:20220309T143000Z
X-MICROSOFT-CDO-ALLDAYEVENT:FALSE
SUMMARY:Community Connections
DESCRIPTION:Join Chamber members for a roundtable discussion with elected officials from Kearney City Council\, Buffalo County Commissioners\, and the Kearney Public School Board and hear updates from each entity. You can also join on our Facebook page. Community Connections is sponsored by Northwestern Energy.
X-ALT-DESC;FMTTYPE=text/html:Join Chamber members for a roundtable discussion with elected officials from Kearney City Council\, Buffalo County Commissioners\, and the Kearney Public School Board and hear updates from each entity. You can also join on our Facebook page. Community Connections is sponsored by <strong>Northwestern Energy</strong>.&nbsp\;
LOCATION:Kearney Area Chamber of Commerce Board room or Kearney Area Chamber Facebook page
UID:e.1404.133
SEQUENCE:3
DTSTAMP:20260423T163644Z
URL:https://members.kearneycoc.org/events/details/community-connections-03-09-2022-133
END:VEVENT

END:VCALENDAR
