BEGIN:VCALENDAR
VERSION:2.0
PRODID:-//ChamberMaster//Event Calendar 2.0//EN
METHOD:PUBLISH
X-PUBLISHED-TTL:P3D
REFRESH-INTERVAL:P3D
CALSCALE:GREGORIAN
BEGIN:VEVENT
DTSTART:20200610T123000Z
DTEND:20200610T133000Z
X-MICROSOFT-CDO-ALLDAYEVENT:FALSE
SUMMARY:Community Connections
DESCRIPTION:Join Chamber members for a virtual roundtable discussion with elected officials from Kearney City Council\, Buffalo County Commissioners\, and the Kearney Public School Board. Community Connections is sponsored by Northwestern Energy. Community Connections will also be live streamed to the Chamber's Facebook page. \n\n\n\nTopic: Community Connections 6.10.2020\n\nTime: Jun 10\, 2020 07:30 AM Central Time (US and Canada)\n\n\n\nJoin Zoom Meeting\n\nhttps://zoom.us/j/99897883034?pwd=QWFYbW9pUTAwWmtLR3pWOFptQ3lDUT09\n\n\n\nMeeting ID: 998 9788 3034\n\nPassword: KACC\n\nOne tap mobile\n\n+14086380968\,\,99897883034#\,\,1#\,666423# US (San Jose)\n\n+16699006833\,\,99897883034#\,\,1#\,666423# US (San Jose)\n\n\n\nDial by your location\n\n        +1 408 638 0968 US (San Jose)\n\n        +1 669 900 6833 US (San Jose)\n\n        +1 253 215 8782 US (Tacoma)\n\n        +1 346 248 7799 US (Houston)\n\n        +1 312 626 6799 US (Chicago)\n\n        +1 646 876 9923 US (New York)\n\n        +1 301 715 8592 US (Germantown)\n\nMeeting ID: 998 9788 3034\n\nPassword: 666423\n\nFind your local number: https://zoom.us/u/abhfDpr4Tc
X-ALT-DESC;FMTTYPE=text/html:Join Chamber members for a virtual roundtable discussion with elected officials from Kearney City Council\, Buffalo County Commissioners\, and the Kearney Public School Board. Community Connections is sponsored by <strong>Northwestern Energy</strong>. Community Connections will also be live streamed to the Chamber&#39\;s Facebook page.&nbsp\;<br />\n<br />\nTopic: Community Connections 6.10.2020<br />\nTime: Jun 10\, 2020 07:30 AM Central Time (US and Canada)<br />\n<br />\nJoin Zoom Meeting<br />\nhttps://zoom.us/j/99897883034?pwd=QWFYbW9pUTAwWmtLR3pWOFptQ3lDUT09<br />\n<br />\nMeeting ID: 998 9788 3034<br />\nPassword: KACC<br />\nOne tap mobile<br />\n+14086380968\,\,99897883034#\,\,1#\,666423# US (San Jose)<br />\n+16699006833\,\,99897883034#\,\,1#\,666423# US (San Jose)<br />\n<br />\nDial by your location<br />\n&nbsp\; &nbsp\; &nbsp\; &nbsp\; +1 408 638 0968 US (San Jose)<br />\n&nbsp\; &nbsp\; &nbsp\; &nbsp\; +1 669 900 6833 US (San Jose)<br />\n&nbsp\; &nbsp\; &nbsp\; &nbsp\; +1 253 215 8782 US (Tacoma)<br />\n&nbsp\; &nbsp\; &nbsp\; &nbsp\; +1 346 248 7799 US (Houston)<br />\n&nbsp\; &nbsp\; &nbsp\; &nbsp\; +1 312 626 6799 US (Chicago)<br />\n&nbsp\; &nbsp\; &nbsp\; &nbsp\; +1 646 876 9923 US (New York)<br />\n&nbsp\; &nbsp\; &nbsp\; &nbsp\; +1 301 715 8592 US (Germantown)<br />\nMeeting ID: 998 9788 3034<br />\nPassword: 666423<br />\nFind your local number: https://zoom.us/u/abhfDpr4Tc
LOCATION:Kearney Area Chamber of Commerce Board room
UID:e.1404.112
SEQUENCE:3
DTSTAMP:20260425T033505Z
URL:https://members.kearneycoc.org/events/details/community-connections-06-10-2020-112
END:VEVENT

END:VCALENDAR
