BEGIN:VCALENDAR
VERSION:2.0
PRODID:-//ChamberMaster//Event Calendar 2.0//EN
METHOD:PUBLISH
X-PUBLISHED-TTL:P3D
REFRESH-INTERVAL:P3D
CALSCALE:GREGORIAN
BEGIN:VEVENT
DTSTART:20200715T123000Z
DTEND:20200715T133000Z
X-MICROSOFT-CDO-ALLDAYEVENT:FALSE
SUMMARY:Community Connections
DESCRIPTION:Join Chamber members for a roundtable discussion with elected officials from Kearney City Council\, Buffalo County Commissioners\, and the Kearney Public School Board. Community Connections will be hosted in the Chamber board room or live on the Chamber's Facebook page. Community Connections is sponsored by Northwestern Energy. \n\n \n\nIf you would like to join via Zoom:\n\n\n\nTopic: July Community Connections\n\nTime: Jul 15\, 2020 07:30 AM Central Time (US and Canada)\n\n\n\nJoin Zoom Meeting\n\nhttps://zoom.us/j/3082373132\n\n\n\nMeeting ID: 308 237 3132\n\nOne tap mobile\n\n+12532158782\,\,3082373132# US (Tacoma)\n\n+13462487799\,\,3082373132# US (Houston)\n\n\n\nDial by your location\n\n        +1 253 215 8782 US (Tacoma)\n\n        +1 346 248 7799 US (Houston)\n\n        +1 408 638 0968 US (San Jose)\n\n        +1 669 900 6833 US (San Jose)\n\n        +1 312 626 6799 US (Chicago)\n\n        +1 646 876 9923 US (New York)\n\n        +1 301 715 8592 US (Germantown)\n\nMeeting ID: 308 237 3132\n\nFind your local number: https://zoom.us/u/abOtwhfOgo
X-ALT-DESC;FMTTYPE=text/html:<p>Join Chamber members for a roundtable discussion with elected officials from Kearney City Council\, Buffalo County Commissioners\, and the Kearney Public School Board. Community Connections will be hosted in the Chamber board room or live on the Chamber&#39\;s Facebook page. Community Connections is sponsored by <strong>Northwestern Energy</strong>.&nbsp\;<br />\n&nbsp\;</p>\n\n<p>If you would like to join via Zoom:<br />\n<br />\nTopic: July Community Connections<br />\nTime: Jul 15\, 2020 07:30 AM Central Time (US and Canada)<br />\n<br />\nJoin Zoom Meeting<br />\nhttps://zoom.us/j/3082373132<br />\n<br />\nMeeting ID: 308 237 3132<br />\nOne tap mobile<br />\n+12532158782\,\,3082373132# US (Tacoma)<br />\n+13462487799\,\,3082373132# US (Houston)<br />\n<br />\nDial by your location<br />\n&nbsp\; &nbsp\; &nbsp\; &nbsp\; +1 253 215 8782 US (Tacoma)<br />\n&nbsp\; &nbsp\; &nbsp\; &nbsp\; +1 346 248 7799 US (Houston)<br />\n&nbsp\; &nbsp\; &nbsp\; &nbsp\; +1 408 638 0968 US (San Jose)<br />\n&nbsp\; &nbsp\; &nbsp\; &nbsp\; +1 669 900 6833 US (San Jose)<br />\n&nbsp\; &nbsp\; &nbsp\; &nbsp\; +1 312 626 6799 US (Chicago)<br />\n&nbsp\; &nbsp\; &nbsp\; &nbsp\; +1 646 876 9923 US (New York)<br />\n&nbsp\; &nbsp\; &nbsp\; &nbsp\; +1 301 715 8592 US (Germantown)<br />\nMeeting ID: 308 237 3132<br />\nFind your local number: https://zoom.us/u/abOtwhfOgo<br />\n</p>\n
LOCATION:Kearney Area Chamber of Commerce Board room or Live on the Chamber's Facebook page
UID:e.1404.113
SEQUENCE:3
DTSTAMP:20260425T032844Z
URL:https://members.kearneycoc.org/events/details/community-connections-07-08-2020-113
END:VEVENT

END:VCALENDAR
