BEGIN:VCALENDAR
VERSION:2.0
PRODID:-//ChamberMaster//Event Calendar 2.0//EN
METHOD:PUBLISH
X-PUBLISHED-TTL:P3D
REFRESH-INTERVAL:P3D
CALSCALE:GREGORIAN
BEGIN:VEVENT
DTSTART:20161006T170000Z
DTEND:20161006T190000Z
X-MICROSOFT-CDO-ALLDAYEVENT:FALSE
SUMMARY:Community Connections-Disability Agency Fair
DESCRIPTION:Please come and listen to local disability service organizations. Each provider will have a booth of information and will give a 3-5 minute presentation. There will be time for networking and questions. \n\n\n\nPartners for the event: Ariane Arensdorf-Buffalo County Community Partners\, Megan Boss-Goodwill Employment\, Sara Frias-Community Action Partnership of Mid-NE\, Cassy Kvasnicka-Nebraska VR and Sherry Stansberry-Arc of Buffalo County.
X-ALT-DESC;FMTTYPE=text/html:Please come and listen to local disability service organizations. Each provider will have a booth of information and will give a 3-5 minute presentation. There will be time for networking and questions.&nbsp\;<br />\n<br />\nPartners for the event: Ariane Arensdorf-Buffalo County Community Partners\, Megan Boss-Goodwill Employment\, Sara Frias-Community Action Partnership of Mid-NE\, Cassy Kvasnicka-Nebraska VR and Sherry Stansberry-Arc of Buffalo County.&nbsp\;
LOCATION:Nebraska Vocational Rehabilitation 315 W. 60th St.\, Ste 400 Kearney NE
UID:e.1404.9017
SEQUENCE:3
DTSTAMP:20260421T140329Z
URL:https://members.kearneycoc.org/events/details/community-connections-disability-agency-fair-9017
END:VEVENT

END:VCALENDAR
