BEGIN:VCALENDAR
VERSION:2.0
PRODID:-//ChamberMaster//Event Calendar 2.0//EN
METHOD:PUBLISH
X-PUBLISHED-TTL:P3D
REFRESH-INTERVAL:P3D
CALSCALE:GREGORIAN
BEGIN:VEVENT
DTSTART:20160615T123000Z
DTEND:20160615T133000Z
X-MICROSOFT-CDO-ALLDAYEVENT:FALSE
SUMMARY:Community Connections-NOTE NEW LOCATION for this date only
DESCRIPTION:Join Chamber members for a roundtable discussion with elected officials from Kearney City Council\, Buffalo County Commissioners\, and the Kearney Public School Board. Community Connections is sponsored by Northwestern Energy.
X-ALT-DESC;FMTTYPE=text/html:Join Chamber members for a roundtable discussion with elected officials from Kearney City Council\, Buffalo County Commissioners\, and the Kearney Public School Board. Community Connections is sponsored by <strong>Northwestern Energy</strong>.&nbsp\;
LOCATION:The Egg & I Restaurant 1325 2nd Avenue Kearney\, NE 68847
UID:e.1404.64
SEQUENCE:3
DTSTAMP:20260421T184603Z
URL:https://members.kearneycoc.org/events/details/community-connections-note-new-location-for-this-date-only-06-15-2016-64
END:VEVENT

END:VCALENDAR
