BEGIN:VCALENDAR
VERSION:2.0
PRODID:-//ChamberMaster//Event Calendar 2.0//EN
METHOD:PUBLISH
X-PUBLISHED-TTL:P3D
REFRESH-INTERVAL:P3D
CALSCALE:GREGORIAN
BEGIN:VEVENT
DTSTART:20160830T233000Z
DTEND:20160831T013000Z
X-MICROSOFT-CDO-ALLDAYEVENT:FALSE
SUMMARY:Community Rally for Kearney Kids and Families
DESCRIPTION:Children and families in Kearney and surrounding areas face\n\nenormous challenges including poverty\, substance abuse\, and\n\ntraumatic stress. Join us for a community rally to learn about the need for foster parents and the various ways you can help. \n\n Please RSVP by phone or text to Makayla Schippert at (402) 430-2508.\n\n \n\nFoster Parent Training Classes (PS-MAPP) start September 10!\n\nVisit www.kvcnebraska.org to learn more.
X-ALT-DESC;FMTTYPE=text/html:<strong><span style="font-size:15pt"><span style="font-family:gotham book"><span style="color:rgb(91\, 102\, 109)">Children and families in Kearney and surrounding areas face<br />\nenormous challenges including poverty\, substance abuse\, and<br />\ntraumatic stress. Join us for a community rally to learn about the need for foster parents and the various ways you can help. </span></span></span></strong><br />\n&nbsp\;<strong><span style="font-size:14pt"><span style="font-family:gotham medium"><span style="color:rgb(91\, 102\, 109)">Please RSVP by phone or text </span></span></span></strong><strong><span style="font-size:14pt"><span style="font-family:gotham book"><span style="color:rgb(91\, 102\, 109)">to Makayla Schippert at (402) 430-2508.</span></span></span></strong><br />\n&nbsp\;<br />\n<strong><span style="font-size:15pt"><span style="font-family:gotham book"><span style="color:rgb(91\, 102\, 109)">Foster Parent Training Classes (PS-MAPP) start </span></span></span></strong><strong><span style="font-size:15pt"><span style="font-family:gotham medium"><span style="color:rgb(91\, 102\, 109)">September 10!</span></span></span></strong><br />\n<strong><span style="font-size:20pt"><span style="font-family:gotham medium"><span style="color:rgb(38\, 164\, 183)">Visit www.kvcnebraska.org to learn more.</span></span></span></strong><br />\n&nbsp\;<br />\n<br />\n&nbsp\;
LOCATION:Kearney Library 2020 1st Avenue\, Kearney\, NE 68847
UID:e.1404.8932
SEQUENCE:3
DTSTAMP:20260421T153509Z
URL:https://members.kearneycoc.org/events/details/community-rally-for-kearney-kids-and-families-08-30-2016-8932
END:VEVENT

END:VCALENDAR
