BEGIN:VCALENDAR
VERSION:2.0
PRODID:-//ChamberMaster//Event Calendar 2.0//EN
METHOD:PUBLISH
X-PUBLISHED-TTL:P3D
REFRESH-INTERVAL:P3D
CALSCALE:GREGORIAN
BEGIN:VEVENT
DTSTART:20190129T160000Z
DTEND:20190519T220000Z
X-MICROSOFT-CDO-ALLDAYEVENT:FALSE
SUMMARY:Compelled To Tell: Form
DESCRIPTION:Compelled To Tell: Form January 29   May 19\, 2019 During the making process\, multiple visual possibilities are resonating in the mind of an artist. Simultaneously\, instinct and conscious thought compel the artist. Visually\, the term "form" can be applied to an entire artwork\, identifying the work as either a painting or a sculpture\, for example. Within an artwork\, form refers to actual shapes and spaces in a sculpture or the illusion of three-dimensional shapes in a painting. By observing form in an artwork\, we can identify an artist's personal style and interpret meaning through the aesthetic sensations looking at form creates.
X-ALT-DESC;FMTTYPE=text/html:Compelled To Tell: Form January 29 &ndash\; May 19\, 2019 During the making process\, multiple visual possibilities are resonating in the mind of an artist. Simultaneously\, instinct and conscious thought compel the artist. Visually\, the term &ldquo\;form&rdquo\; can be applied to an entire artwork\, identifying the work as either a painting or a sculpture\, for example. Within an artwork\, form refers to actual shapes and spaces in a sculpture or the illusion of three-dimensional shapes in a painting. By observing form in an artwork\, we can identify an artist&rsquo\;s personal style and interpret meaning through the aesthetic sensations looking at form creates.
LOCATION:Museum of Nebraska Art 2401 Central Avenue Kearney\, NE 68847
UID:e.1404.14432
SEQUENCE:3
DTSTAMP:20260426T020311Z
URL:https://members.kearneycoc.org/events/details/compelled-to-tell-form-14432
END:VEVENT

END:VCALENDAR
